Workbook

Sheet 汇总
A1: 投标报价汇总表
A3: 投标人：
A4: 项目名称： | B4: 2026年度桂林路、桂江路停车场弱电系统建设项目
A5: 序号 | B5: 系统名称 | C5: 金额(元) | D5: 备注
A6: 1 | B6: 安全防范系统 | C6: ='1安全防范系统'!G121 -> 0
A7: 2 | B7: 弱电机房建设 | C7: ='2弱电机房建设'!G25 -> 0
A8: 3 | B8: 网络交换系统 | C8: ='3网络交换系统'!G17 -> 0
A9: 4 | B9: 报警系统 | C9: ='4报警系统'!G12 -> 0
A10: 5 | B10: 地下管线及内外场光缆敷设 | C10: ='5地下管线及内外场光缆敷设'!G19 -> 0
A11: 6 | B11: 总价（元，小写） | C11: =SUM(C6:C10) -> 0
B12: 总价（大写）

Sheet 1安全防范系统
A1: 安全防范系统
A2: 序号 | B2: 设备名称 | C2: 技术参数 | D2: 数量 | E2: 单位 | F2: 单价（元） | G2: 合价（元） | H2: 品牌 | I2: 型号
A3: 桂林路停车场
A4: （一） | B4: 视频监控
A5: 1 | B5: 1080P数字高清网络半球摄像机 | C5: 详见主要设备技术参数要求 | D5: 8 | E5: 套 | G5: =D5*F5 -> 0
A6: 2 | B6: 1080P数字高清网络快球摄像机 | C6: 详见主要设备技术参数要求 | D6: 3 | E6: 套 | G6: =D6*F6 -> 0
A7: 3 | B7: 1080P室外数字高清枪式摄像机 | C7: 详见主要设备技术参数要求 | D7: 23 | E7: 套 | G7: =D7*F7 -> 0
A8: 4 | B8: 防雷器 | C8: 详见主要设备技术参数要求 | D8: 26 | E8: 个 | G8: =D8*F8 -> 0
A9: 5 | B9: 内存卡 | C9: ≥32GB,Class10,监控专用 | D9: 34 | E9: 张 | G9: =D9*F9 -> 0
A10: 6 | B10: 光纤收发器 | C10: 交换容量：≥9.2 Gbps 包转发率：≥6.84 Mpps 端口数量：不少于8个100BaseTRJ45接口，2个100/1000BASE-X SFP接口 | D10: 6 | E10: 台 | G10: =D10*F10 -> 0
A11: 7 | B11: 光模块 | C11: 接口类型：LC-LC 传输距离：不小于20KM | D11: 12 | E11: 个 | G11: =D11*F11 -> 0
A12: 8 | B12: 室外监控背包箱 | C12: 含电源，空开，光纤熔接盘，抱箍等 | D12: 6 | E12: 套 | G12: =D12*F12 -> 0
A13: 9 | B13: 室外挂墙监控挑臂 | C13: 30CM | D13: 23 | E13: 套 | G13: =D13*F13 -> 0
A14: 10 | B14: 网络视频存储器 | C14: 详见主要设备技术参数要求 | D14: 3 | E14: 台 | G14: =D14*F14 -> 0
A15: 11 | B15: 8T硬盘 | C15: 监控级硬盘8T | D15: 48 | E15: 块 | G15: =D15*F15 -> 0
A16: 12 | B16: 机架式监控电源 | C16: AC24V 20A | D16: 2 | E16: 个 | G16: =D16*F16 -> 0
... A19: 15 | B19: 综合安防管理平台 | C19: 详见主要设备技术参数要求 | D19: 1 | E19: 套 | G19: =D19*F19 -> 0
A20: （二） | B20: 门禁
A21: 1 | B21: 门禁系统主控主机 | C21: 详见主要设备技术参数要求 | D21: 1 | E21: 台 | G21: =D21*F21 -> 0
A22: 2 | B22: IC卡 | C22: 详见主要设备技术参数要求 | D22: 50 | E22: 张 | G22: =D22*F22 -> 0
A23: 3 | B23: 门禁控制器 | C23: 详见主要设备技术参数要求 | D23: 29 | E23: 套 | G23: =D23*F23 -> 0
A24: 4 | B24: 人脸、卡片录入仪 | C24: 详见主要设备技术参数要求 | D24: 1 | E24: 台 | G24: =D24*F24 -> 0
A25: 5 | B25: IC卡门禁读卡器 | C25: 详见主要设备技术参数要求 | D25: 16 | E25: 个 | G25: =D25*F25 -> 0
A26: 6 | B26: 人脸识别门禁 | C26: 详见主要设备技术参数要求 | D26: 13 | E26: 套 | G26: =D26*F26 -> 0
A27: 7 | B27: 开门按钮 | C27: 详见主要设备技术参数要求 | D27: 29 | E27: 个 | G27: =D27*F27 -> 0
A28: 8 | B28: 磁力锁 | C28: 单门不小于280kg | D28: 29 | E28: 套 | G28: =D28*F28 -> 0
A29: 9 | B29: 防水RVV 2*1.0 电源线 | C29: RVV 2*1.0 | D29: 800 | E29: 米 | G29: =D29*F29 -> 0
A30: 10 | B30: 防水RVV 6*1.0 通讯线 | C30: RVV 6*1.0 | D30: 800 | E30: 米 | G30: =D30*F30 -> 0
A31: 11 | B31: 防水6类四对非屏蔽双绞线 | C31: 详见主要设备技术参数要求 | D31: 3 | E31: 箱 | G31: =D31*F31 -> 0
A32: 12 | B32: 光纤收发器 | C32: 交换容量：≥9.2 Gbps 包转发率：≥6.84 Mpps 端口数量：不少于8个100BaseTRJ45接口，2个100/1000BASE-X SFP接口 | D32: 4 | E32: 台 | G32: =D32*F32 -> 0
... A34: 14 | B34: 安防背包箱 | C34: 含12V10A电源，空开，光纤熔接盘，抱箍等 | D34: 4 | E34: 套 | G34: =D34*F34 -> 0
A35: （三） | B35: 电子围栏
A36: 1 | B36: 电子围栏及配套设备 | C36: 4线制，含4个防区，4个拐角，一个大门落差 | D36: 450 | E36: 米 | G36: =D36*F36 -> 0
A37: （四） | B37: 监控室建设
A38: 1 | B38: 55寸监视器 | C38: 详见主要设备技术参数要求 | D38: 2 | E38: 台 | G38: =D38*F38 -> 0
A39: 2 | B39: 壁装支架 | C39: 壁挂，产品承重≥80KG | D39: 2 | E39: 套 | G39: =D39*F39 -> 0
A40: 3 | B40: HDMI高清线 | C40: 15米/线规26AWG/镀金工艺插头 | D40: 2 | E40: 根 | G40: =D40*F40 -> 0
A41: 4 | B41: 监控操作电脑 | C41: 详见主要设备技术参数要求 | D41: 1 | E41: 台 | G41: =D41*F41 -> 0
A42: 5 | B42: 1工位操作台 | C42: 1工位，木工板材质，不锈钢包边 | D42: 2 | E42: 套 | G42: =D42*F42 -> 0
A43: 6 | B43: 桌面电源箱 | C43: 详见主要设备技术参数要求 | D43: 2 | E43: 套 | G43: =D43*F43 -> 0
A44: （五） | B44: 出入口道闸
A45: 1 | B45: 人行摆闸左边道 | C45: 详见主要设备技术参数要求 | D45: 1 | E45: 台 | G45: =D45*F45 -> 0
A46: 2 | B46: 人行摆闸右边道 | C46: 详见主要设备技术参数要求 | D46: 1 | E46: 台 | G46: =D46*F46 -> 0
A47: 3 | B47: 闸机人脸识别模组 | C47: 详见主要设备技术参数要求 | D47: 2 | E47: 台 | G47: =D47*F47 -> 0
A48: 4 | B48: 闸机感应读卡器模组 | C48: 详见主要设备技术参数要求 | D48: 2 | E48: 个 | G48: =D48*F48 -> 0
A49: 5 | B49: RVV 3*2.5 电源线 | C49: RVV 3*2.5 | D49: 100 | E49: 米 | G49: =D49*F49 -> 0
A50: 6 | B50: 防水6类四对非屏蔽双绞线 | C50: 详见主要设备技术参数要求 | D50: 1 | E50: 箱 | G50: =D50*F50 -> 0
A51: 7 | B51: 车辆道闸（右） | C51: 详见主要设备技术参数要求 | D51: 1 | E51: 套 | G51: =D51*F51 -> 0
A52: 8 | B52: 车辆道闸（左） | C52: 详见主要设备技术参数要求 | D52: 1 | E52: 套 | G52: =D52*F52 -> 0
A53: 9 | B53: 车辆检测器 | C53: 详见主要设备技术参数要求 | D53: 2 | E53: 套 | G53: =D53*F53 -> 0
A54: 10 | B54: 地感线圈 | C54: 0.75mm²，绞合导体，镀锡铜 | D54: 4 | E54: 套 | G54: =D54*F54 -> 0
A55: 11 | B55: 抓拍摄像机 | C55: 详见主要设备技术参数要求 | D55: 2 | E55: 台 | G55: =D55*F55 -> 0
A56: 12 | B56: 出入口控制终端 | C56: 详见主要设备技术参数要求 | D56: 1 | E56: 套 | G56: =D56*F56 -> 0
... A61: 17 | B61: 六类四对非屏蔽双绞网线 | C61: 详见主要设备技术参数要求 | D61: 1 | E61: 箱 | G61: =D61*F61 -> 0
A62: 桂江路停车场
A63: （一） | B63: 视频监控
A64: 1 | B64: 1080P数字高清网络半球摄像机 | C64: 详见主要设备技术参数要求 | D64: 2 | E64: 套 | G64: =D64*F64 -> 0
A65: 2 | B65: 1080P室外数字高清枪式摄像机 | C65: 详见主要设备技术参数要求 | D65: 23 | E65: 套 | G65: =D65*F65 -> 0
A66: 3 | B66: 防雷器 | C66: 详见主要设备技术参数要求 | D66: 23 | E66: 个 | G66: =D66*F66 -> 0
A67: 4 | B67: 内存卡 | C67: ≥32GB,Class10,监控专用 | D67: 25 | E67: 张 | G67: =D67*F67 -> 0
A68: 5 | B68: 光纤收发器 | C68: 交换容量：≥9.2 Gbps 包转发率：≥6.84 Mpps 端口数量：不少于8个100BaseTRJ45接口，2个100/1000BASE-X SFP接口 | D68: 6 | E68: 台 | G68: =D68*F68 -> 0
A69: 6 | B69: 光模块 | C69: 接口类型：LC-LC 传输距离：不小于20KM | D69: 12 | E69: 个 | G69: =D69*F69 -> 0
A70: 7 | B70: 室外监控背包箱 | C70: 含电源，空开，光纤熔接盘，抱箍等 | D70: 6 | E70: 套 | G70: =D70*F70 -> 0
A71: 8 | B71: 室外监控杆 | C71: 4米，双挑臂，含地笼基础，防雷接地 | D71: 4 | E71: 套 | G71: =D71*F71 -> 0
A72: 9 | B72: 室外挂墙监控挑臂 | C72: 30CM | D72: 15 | E72: 套 | G72: =D72*F72 -> 0
A73: 10 | B73: 网络视频存储器 | C73: 详见主要设备技术参数要求 | D73: 2 | E73: 台 | G73: =D73*F73 -> 0
A74: 11 | B74: 8T硬盘 | C74: 监控级硬盘8T | D74: 32 | E74: 块 | G74: =D74*F74 -> 0
A75: 12 | B75: 机架式监控电源 | C75: AC24V 20A | D75: 2 | E75: 个 | G75: =D75*F75 -> 0
... A78: 15 | B78: 综合安防管理平台 | C78: 详见主要设备技术参数要求 | D78: 1 | E78: 套 | G78: =D78*F78 -> 0
A79: （二） | B79: 门禁
A80: 1 | B80: 门禁系统主控主机 | C80: 详见主要设备技术参数要求 | D80: 1 | E80: 台 | G80: =D80*F80 -> 0
A81: 2 | B81: IC卡 | C81: 详见主要设备技术参数要求 | D81: 50 | E81: 张 | G81: =D81*F81 -> 0
A82: 3 | B82: 门禁控制器 | C82: 详见主要设备技术参数要求 | D82: 3 | E82: 套 | G82: =D82*F82 -> 0
A83: 4 | B83: 人脸、卡片录入仪 | C83: 详见主要设备技术参数要求 | D83: 1 | E83: 台 | G83: =D83*F83 -> 0
A84: 5 | B84: IC卡门禁读卡器 | C84: 详见主要设备技术参数要求 | D84: 3 | E84: 个 | G84: =D84*F84 -> 0
A85: 6 | B85: 人脸识别门禁 | C85: 详见主要设备技术参数要求 | D85: 3 | E85: 套 | G85: =D85*F85 -> 0
A86: 7 | B86: 开门按钮 | C86: 详见主要设备技术参数要求 | D86: 3 | E86: 个 | G86: =D86*F86 -> 0
A87: 8 | B87: 磁力锁 | C87: 单门不小于280kg | D87: 3 | E87: 套 | G87: =D87*F87 -> 0
A88: 9 | B88: 防水RVV 2*1.0 电源线 | C88: RVV 2*1.0 | D88: 1000 | E88: 米 | G88: =D88*F88 -> 0
A89: 10 | B89: 防水RVV 6*1.0 通讯线 | C89: RVV 6*1.0 | D89: 1000 | E89: 米 | G89: =D89*F89 -> 0
A90: 11 | B90: 防水6类四对非屏蔽双绞线 | C90: 详见主要设备技术参数要求 | D90: 3 | E90: 箱 | G90: =D90*F90 -> 0
A91: 12 | B91: 光纤收发器 | C91: 交换容量：≥9.2 Gbps 包转发率：≥6.84 Mpps 端口数量：不少于8个100BaseTRJ45接口，2个100/1000BASE-X SFP接口 | D91: 1 | E91: 台 | G91: =D91*F91 -> 0
... A93: 14 | B93: 安防背包箱 | C93: 含12V10A电源，空开，光纤熔接盘，抱箍等 | D93: 1 | E93: 套 | G93: =D93*F93 -> 0
A94: （三） | B94: 电子围栏
A95: 1 | B95: 电子围栏及配套设备 | C95: 4线制，含4个防区，4个拐角，一个大门落差 | D95: 400 | E95: 米 | G95: =D95*F95 -> 0
A96: （四） | B96: 监控室建设
A97: 1 | B97: 55寸监视器 | C97: 详见主要设备技术参数要求 | D97: 2 | E97: 台 | G97: =D97*F97 -> 0
A98: 2 | B98: 壁装支架 | C98: 壁挂，产品承重≥80KG | D98: 2 | E98: 套 | G98: =D98*F98 -> 0
A99: 3 | B99: HDMI高清线 | C99: 15米/线规26AWG/镀金工艺插头 | D99: 2 | E99: 根 | G99: =D99*F99 -> 0
A100: 4 | B100: 监控操作电脑 | C100: 详见主要设备技术参数要求 | D100: 1 | E100: 台 | G100: =D100*F100 -> 0
A101: 5 | B101: 1工位操作台 | C101: 1工位，木工板材质，不锈钢包边 | D101: 2 | E101: 套 | G101: =D101*F101 -> 0
A102: 6 | B102: 桌面电源箱 | C102: 详见主要设备技术参数要求 | D102: 2 | E102: 套 | G102: =D102*F102 -> 0
A103: （五） | B103: 出入口道闸
A104: 1 | B104: 人行摆闸左边道 | C104: 详见主要设备技术参数要求 | D104: 2 | E104: 台 | G104: =D104*F104 -> 0
A105: 2 | B105: 人行摆闸右边道 | C105: 详见主要设备技术参数要求 | D105: 2 | E105: 台 | G105: =D105*F105 -> 0
A106: 3 | B106: 闸机人脸识别模组 | C106: 详见主要设备技术参数要求 | D106: 4 | E106: 台 | G106: =D106*F106 -> 0
A107: 4 | B107: 闸机感应读卡器模组 | C107: 详见主要设备技术参数要求 | D107: 4 | E107: 个 | G107: =D107*F107 -> 0
A108: 5 | B108: RVV 3*2.5 电源线 | C108: RVV 3*2.5 | D108: 500 | E108: 米 | G108: =D108*F108 -> 0
A109: 6 | B109: 防水6类四对非屏蔽双绞线 | C109: 详见主要设备技术参数要求 | D109: 2 | E109: 箱 | G109: =D109*F109 -> 0
A110: 7 | B110: 车辆道闸（右） | C110: 详见主要设备技术参数要求 | D110: 1 | E110: 套 | G110: =D110*F110 -> 0
...

Sheet 2弱电机房建设
A1: 弱电机房建设
A2: 序号 | B2: 名称 | C2: 技术参数 | D2: 数量 | E2: 单位 | F2: 单价（元） | G2: 合价（元） | H2: 品牌 | I2: 型号
A3: 桂林路停车场
A4: 1 | B4: UPS主机 | C4: 详见主要设备技术参数要求 | D4: 1 | E4: 套 | G4: =D4*F4 -> 0
A5: 2 | B5: 电池组 | C5: 详见主要设备技术参数要求 | D5: 16 | E5: 个 | G5: =D5*F5 -> 0
A6: 3 | B6: 电池柜 | C6: 空开不小于1个63A/1P，冷轧钢板（SPCC） | D6: 1 | E6: 个 | G6: =D6*F6 -> 0
A7: 4 | B7: 电池连接线 | C7: 连接线缆：ZR-BVR-6方，长度1200mm不小于1根,450mm不小于17根 绝缘帽：数量不小于32个 铜鼻子：OT-8，已压接；数量不小于36套 | D7: 1 | E7: 套 | G7: =D7*F7 -> 0
A8: 5 | B8: 配电柜 | C8: 含漏保、空开 | D8: 1 | E8: 套 | G8: =D8*F8 -> 0
A9: 6 | B9: 电缆 | C9: YJV5*6 | D9: 100 | E9: 米 | G9: =D9*F9 -> 0
A10: 7 | B10: 弱电机房机柜 | C10: 最大负载800KG。 机柜尺寸600*800*2000mm； | D10: 1 | E10: 架 | G10: =D10*F10 -> 0
A11: 8 | B11: 机柜PDU | C11: 保护插位数：≥8位 额定负载电流：≥10A | D11: 2 | E11: 条 | G11: =D11*F11 -> 0
A12: 9 | B12: RVV 3*4 电源线 | C12: RVV 3*4 | D12: 100 | E12: 米 | G12: =D12*F12 -> 0
A13: 10 | B13: RVVZ 1*16 接地线 | C13: RVVZ 1*16 | D13: 50 | E13: 米 | G13: =D13*F13 -> 0
A14: 桂江路停车场
A15: 1 | B15: UPS主机 | C15: 详见主要设备技术参数要求 | D15: 1 | E15: 套 | G15: =D15*F15 -> 0
A16: 2 | B16: 电池组 | C16: 详见主要设备技术参数要求 | D16: 16 | E16: 个 | G16: =D16*F16 -> 0
A17: 3 | B17: 电池柜 | C17: 空开不小于1个63A/1P，冷轧钢板（SPCC） | D17: 1 | E17: 个 | G17: =D17*F17 -> 0
A18: 4 | B18: 电池连接线 | C18: 连接线缆：ZR-BVR-6方，长度1200mm不小于1根,450mm不小于17根 绝缘帽：数量不小于32个 铜鼻子：OT-8，已压接；数量不小于36套 | D18: 1 | E18: 套 | G18: =D18*F18 -> 0
A19: 5 | B19: 配电柜 | C19: 含漏保、空开 | D19: 1 | E19: 套 | G19: =D19*F19 -> 0
A20: 6 | B20: 电缆 | C20: YJV5*6 | D20: 100 | E20: 米 | G20: =D20*F20 -> 0
A21: 7 | B21: 弱电机房机柜 | C21: 最大负载800KG。 机柜尺寸600*800*2000mm； | D21: 1 | E21: 架 | G21: =D21*F21 -> 0
A22: 8 | B22: 机柜PDU | C22: 保护插位数：≥8位 额定负载电流：≥10A | D22: 2 | E22: 条 | G22: =D22*F22 -> 0
A23: 9 | B23: RVV 3*4 电源线 | C23: RVV 3*4 | D23: 100 | E23: 米 | G23: =D23*F23 -> 0
A24: 10 | B24: RVVZ 1*16 接地线 | C24: RVVZ 1*16 | D24: 50 | E24: 米 | G24: =D24*F24 -> 0
B25: 合计 | G25: =SUM(G4:G24) -> 0

Sheet 3网络交换系统
A1: 网络交换系统
A2: 序号 | B2: 名称 | C2: 技术参数 | D2: 数量 | E2: 单位 | F2: 单价（元） | G2: 合价（元） | H2: 品牌 | I2: 型号
A3: 桂林路停车场
A4: 1 | B4: 监控汇聚交换机 | C4: 详见主要设备技术参数要求 | D4: 2 | E4: 台 | G4: =D4*F4 -> 0
A5: 2 | B5: 门禁道闸汇聚交换机 | C5: 详见主要设备技术参数要求 | D5: 1 | E5: 台 | G5: =D5*F5 -> 0
A6: 3 | B6: 六类24口非屏蔽配线架 | C6: 详见主要设备技术参数要求 | D6: 3 | E6: 套 | G6: =D6*F6 -> 0
A7: 4 | B7: 六类非屏蔽RJ45跳线 | C7: 详见主要设备技术参数要求 | D7: 24 | E7: 根 | G7: =D7*F7 -> 0
A8: 5 | B8: 光纤配线架1U | C8: 详见主要设备技术参数要求 | D8: 5 | E8: 条 | G8: =D8*F8 -> 0
A9: 6 | B9: 光纤跳线 | C9: FC-LC 3M | D9: 80 | E9: 根 | G9: =D9*F9 -> 0
A10: 桂江路停车场
A11: 1 | B11: 监控汇聚交换机 | C11: 详见主要设备技术参数要求 | D11: 2 | E11: 台 | G11: =D11*F11 -> 0
A12: 2 | B12: 门禁道闸汇聚交换机 | C12: 详见主要设备技术参数要求 | D12: 1 | E12: 台 | G12: =D12*F12 -> 0
A13: 3 | B13: 六类24口非屏蔽配线架 | C13: 详见主要设备技术参数要求 | D13: 3 | E13: 套 | G13: =D13*F13 -> 0
A14: 4 | B14: 六类非屏蔽RJ45跳线 | C14: 详见主要设备技术参数要求 | D14: 24 | E14: 根 | G14: =D14*F14 -> 0
A15: 5 | B15: 光纤配线架1U | C15: 详见主要设备技术参数要求 | D15: 4 | E15: 条 | G15: =D15*F15 -> 0
A16: 6 | B16: 光纤跳线 | C16: FC-LC 3M | D16: 80 | E16: 根 | G16: =D16*F16 -> 0
B17: 合计 | G17: =SUM(G4:G16) -> 0

Sheet 4报警系统
A1: 报警系统
A2: 序号 | B2: 名称 | C2: 技术参数 | D2: 数量 | E2: 单位 | F2: 单价（元） | G2: 合价（元） | H2: 品牌 | I2: 型号
A3: 桂林路停车场
A4: 1 | B4: 报警主机 | C4: 详见主要设备技术参数要求 | D4: 1 | E4: 台 | G4: =D4*F4 -> 0
A5: 2 | B5: 红外探测 | C5: 详见主要设备技术参数要求 | D5: 10 | E5: 个 | G5: =D5*F5 -> 0
A6: 3 | B6: 紧急按钮 | C6: 输出：常闭，常开 | D6: 1 | E6: 个 | G6: =D6*F6 -> 0
A7: 4 | B7: RVV 4*1.0 通信线 | C7: RVV 4*1.0 | D7: 1000 | E7: 米 | G7: =D7*F7 -> 0
A8: 桂江路停车场
A9: 1 | B9: 报警主机 | C9: 详见主要设备技术参数要求 | D9: 1 | E9: 台 | G9: =D9*F9 -> 0
A10: 2 | B10: 紧急按钮 | C10: 输出：常闭，常开 | D10: 1 | E10: 个 | G10: =D10*F10 -> 0
A11: 3 | B11: RVV 4*1.0 通信线 | C11: RVV 4*1.0 | D11: 1000 | E11: 米 | G11: =D11*F11 -> 0
B12: 合计 | G12: =SUM(G5:G11) -> 0

Sheet 5地下管线及内外场光缆敷设
A1: 地下管线及内外长光缆敷设
A2: 序号 | B2: 名称 | C2: 技术参数 | D2: 数量 | E2: 单位 | F2: 单价（元） | G2: 合价（元） | H2: 品牌 | I2: 型号
A3: 桂林路停车场
B4: 地下管线及光缆
A5: 1 | B5: 钢管 | C5: 2孔管道、直径50钢管 | D5: 600 | E5: 米 | G5: =D5*F5 -> 0
A6: 2 | B6: 手孔井 | C6: 0.6*0.6*0.6砖砌 | D6: 8 | E6: 个 | G6: =D6*F6 -> 0
A7: 3 | B7: 4芯光缆 | C7: GYTA-4B1 | D7: 1500 | E7: 米 | G7: =D7*F7 -> 0
A8: 4 | B8: RVV 3*2.5 电源线 | C8: RVV 3*2.5 | D8: 1500 | E8: 米 | G8: =D8*F8 -> 0
B9: 外场光缆
A10: 1 | B10: 外场光缆 | C10: GYTA-24B1，至田林派出所 | D10: 1 | E10: 条 | G10: =D10*F10 -> 0
A11: 桂江路停车场
B12: 地下管线及光缆
A13: 1 | B13: 钢管 | C13: 2孔管道、直径50钢管 | D13: 450 | E13: 米 | G13: =D13*F13 -> 0
A14: 2 | B14: 手孔井 | C14: 0.6*0.6*0.6砖砌 | D14: 11 | E14: 个 | G14: =D14*F14 -> 0
A15: 3 | B15: 4芯光缆 | C15: GYTA-4B1 | D15: 1200 | E15: 米 | G15: =D15*F15 -> 0
A16: 4 | B16: RVV 3*2.5 电源线 | C16: RVV 3*2.5 | D16: 1200 | E16: 米 | G16: =D16*F16 -> 0
B17: 外场光缆
A18: 1 | B18: 外场光缆 | C18: GYTA-24B1，至田林派出所 | D18: 1 | E18: 条 | G18: =D18*F18 -> 0
B19: 合计 | G19: =SUM(G5:G18) -> 0
